BEGIN:VCALENDAR
VERSION:2.0
CALSCALE:GREGORIAN
BEGIN:VEVENT
DTSTART;TZID=Europe/Berlin:20240118T143000
DTEND;TZID=Europe/Berlin:20240119T000000
SUMMARY:Colloquium fundamentale &quot;End of times&quot;
DESCRIPTION:Study-fundamental module &quot;Man and Society&quot; WS23/24
END:VEVENT
END:VCALENDAR