BEGIN:VCALENDAR
VERSION:2.0
CALSCALE:GREGORIAN
BEGIN:VEVENT
DTSTART;TZID=Europe/Berlin:20230510T161500
DTEND;TZID=Europe/Berlin:20230511T000000
SUMMARY:SeniorenKolleg Görlitz\: Women&#039;s and girls&#039; education in Upper Lusatia
DESCRIPTION:Women&#039;s and girls&#039; education in Upper Lusatia. Dipl.-Ing. Kersten Kühne\, Olbersdorf. Hermann-Heitkamp-Haus\, lecture hall G I / 1.01. Contribution of Studium fundamentale/SeniorenKolleg to the Day of Teaching (Görlitz location).
END:VEVENT
END:VCALENDAR