BEGIN:VCALENDAR
VERSION:2.0
CALSCALE:GREGORIAN
BEGIN:VEVENT
DTSTART;TZID=Europe/Berlin:20240827T180000
DTEND;TZID=Europe/Berlin:20240828T000000
SUMMARY:CO2 - small molecule\, big effect!
DESCRIPTION:Lecture evening with music followed by a tour of the Natural Fiber Research Center.
END:VEVENT
END:VCALENDAR