BEGIN:VCALENDAR
VERSION:2.0
CALSCALE:GREGORIAN
BEGIN:VEVENT
DTSTART;TZID=Europe/Berlin:20240425T093000
DTEND;TZID=Europe/Berlin:20240426T000000
SUMMARY:Boys&#039; Day at the HSZG from Year 5 onwards
DESCRIPTION:At the nationwide Boys&#039; Day on April 25\, 2024\, pupils can get a taste of professions that are atypical for boys. Our program for your future day will inspire you\: come along and discover the healing power of medicinal plants!
END:VEVENT
END:VCALENDAR