BEGIN:VCALENDAR
VERSION:2.0
CALSCALE:GREGORIAN
BEGIN:VEVENT
DTSTART;TZID=Europe/Berlin:20241115T114000
DTEND;TZID=Europe/Berlin:20241116T000000
SUMMARY:Exchange Digital Teaching HSZG - Topic\: Technologies of digitization
DESCRIPTION:In cooperation with the Centre for eLearning (zfe) and the digitalization project D2C2\, which is part of the Vice-Rectorate Education and International Affairs\, an offer has been established in which cross-faculty / trans-faculty lecturers at the HSZG can exchange their experiences with digital teaching in order to promote the transfer of best practice approaches. At the center of the regular online meetings is a 10-minute input by a teacher or a research assistant from a didactically related project. Participants have the opportunity to ask specific questions to the input providers\, contribute their own ideas\, receive suggestions for their own teaching and discuss with each other.
END:VEVENT
END:VCALENDAR