BEGIN:VCALENDAR
VERSION:2.0
CALSCALE:GREGORIAN
BEGIN:VEVENT
DTSTART;TZID=Europe/Berlin:20221214T143000
DTEND;TZID=Europe/Berlin:20221215T000000
SUMMARY:&quot;Age-appropriate living through technology&quot;
DESCRIPTION:Second event of the TALK project on the topic\, with lecture and technology presentation
END:VEVENT
END:VCALENDAR