BEGIN:VCALENDAR
VERSION:2.0
CALSCALE:GREGORIAN
BEGIN:VEVENT
DTSTART;TZID=Europe/Berlin:20220610T150000
DTEND;TZID=Europe/Berlin:20220611T000000
SUMMARY:After Work &amp; Study Party
DESCRIPTION:Start the weekend together in a relaxed atmosphere from 15\:00.
END:VEVENT
END:VCALENDAR