BEGIN:VCALENDAR
VERSION:2.0
CALSCALE:GREGORIAN
BEGIN:VEVENT
DTSTART;TZID=Europe/Berlin:20231108T140000
DTEND;TZID=Europe/Berlin:20231109T000000
SUMMARY:&quot;Attention\, wake up!&quot; - Motivating and encouraging students through active interaction and communication in university teaching
DESCRIPTION:In this workshop\, participants will learn about the university pyramid (Meyer-Ross/Franze)\, which combines the approaches of Bloom and Biggs\, and how they can plan activities and feedback evaluations according to the chosen taxonomy.
END:VEVENT
END:VCALENDAR