BEGIN:VCALENDAR
VERSION:2.0
CALSCALE:GREGORIAN
BEGIN:VEVENT
DTSTART;TZID=Europe/Berlin:20240424T143000
DTEND;TZID=Europe/Berlin:20240425T000000
SUMMARY:83rd Institute Colloquium of the IPM
DESCRIPTION:Lecture &quot;Downstream connection of a PtX plant to a waste incineration plant using the example of a methanol plant&quot;
END:VEVENT
END:VCALENDAR