BEGIN:VCALENDAR
VERSION:2.0
CALSCALE:GREGORIAN
BEGIN:VEVENT
DTSTART;TZID=Europe/Berlin:20220610T113000
DTEND;TZID=Europe/Berlin:20220611T000000
SUMMARY:30 years of HAW - Universities of Applied Sciences Saxony celebrate anniversary
DESCRIPTION:The five Saxon universities of applied sciences are looking back on their 30th anniversary. The ceremony can be followed via livestream.
END:VEVENT
END:VCALENDAR