BEGIN:VCALENDAR
VERSION:2.0
CALSCALE:GREGORIAN
BEGIN:VEVENT
DTSTART;TZID=Europe/Berlin:20240316T093000
DTEND;TZID=Europe/Berlin:20240317T000000
SUMMARY:30th International Electrical Engineering Olympiad &quot;NEISSE-ELEKTRO&quot;
DESCRIPTION:The Neisse-Elektro is being held for the 30th time as an electrical engineering Olympiad. Once again this year\, twenty pupils from Poland\, the Czech Republic and Germany are invited to take part in the STEM competition.
END:VEVENT
END:VCALENDAR