BEGIN:VCALENDAR
VERSION:2.0
CALSCALE:GREGORIAN
BEGIN:VEVENT
DTSTART;TZID=Europe/Berlin:20231021T193000
DTEND;TZID=Europe/Berlin:20231022T000000
SUMMARY:12th Zittau Culture Night\: Black romance and the electric heart
DESCRIPTION:This year\, the HSZG will once again be taking part in the 12th Zittau Culture Night on 21.10.2023 with a program.
END:VEVENT
END:VCALENDAR