BEGIN:VCALENDAR
VERSION:2.0
CALSCALE:GREGORIAN
BEGIN:VEVENT
DTSTART;TZID=Europe/Berlin:20241115T093000
DTEND;TZID=Europe/Berlin:20241116T000000
SUMMARY:Foundation conference at the EH-Freiburg
DESCRIPTION:On November 15\, 2024\, Dr. Monique Ritter has been invited to give a keynote speech at the Protestant University of Applied Sciences Freiburg.
END:VEVENT
END:VCALENDAR