BEGIN:VCALENDAR
VERSION:2.0
CALSCALE:GREGORIAN
BEGIN:VEVENT
DTSTART;TZID=Europe/Berlin:20241115T093000
DTEND;TZID=Europe/Berlin:20241116T000000
SUMMARY:Immigration as an instrument for recruiting skilled workers?
DESCRIPTION:Foundation Day on November 15\, 2024 at the EH Freiburg
END:VEVENT
END:VCALENDAR