BEGIN:VCALENDAR
VERSION:2.0
CALSCALE:GREGORIAN
BEGIN:VEVENT
DTSTART;TZID=Europe/Berlin:20221102T161500
DTEND;TZID=Europe/Berlin:20221103T000000
SUMMARY:The idea of regional value creation
DESCRIPTION:
END:VEVENT
END:VCALENDAR