BEGIN:VCALENDAR
VERSION:2.0
CALSCALE:GREGORIAN
BEGIN:VEVENT
DTSTART;TZID=Europe/Berlin:20240517T150000
DTEND;TZID=Europe/Berlin:20240518T000000
SUMMARY:Kinder Academy in Zittau\: Why is the Saxon ruler Augustus the Strong so famous in Poland?
DESCRIPTION:
END:VEVENT
END:VCALENDAR