BEGIN:VCALENDAR
VERSION:2.0
CALSCALE:GREGORIAN
BEGIN:VEVENT
DTSTART;TZID=Europe/Berlin:20240927T150000
DTEND;TZID=Europe/Berlin:20240928T000000
SUMMARY:Kinder Academy in Zittau\: How does a computer work?  An insight into the world of programming
DESCRIPTION:
END:VEVENT
END:VCALENDAR