BEGIN:VCALENDAR
VERSION:2.0
CALSCALE:GREGORIAN
BEGIN:VEVENT
DTSTART;TZID=Europe/Berlin:20241206T100000
DTEND;TZID=Europe/Berlin:20241207T000000
SUMMARY:Zittau Kinder Academy\: Programming with data - learning by example
DESCRIPTION:Kinder Academy on site in the region - as a guest at ZCOM Hoyerswerda!
END:VEVENT
END:VCALENDAR