BEGIN:VCALENDAR
VERSION:2.0
CALSCALE:GREGORIAN
BEGIN:VEVENT
DTSTART;TZID=Europe/Berlin:20241025T100000
DTEND;TZID=Europe/Berlin:20241026T000000
SUMMARY:Zittau Kinder Academy\: Nothing works without him?!
DESCRIPTION:Kinder Academy on site in the region - as a guest at Phillip-Melanchthon-Gymn. Bautzen!
END:VEVENT
END:VCALENDAR