BEGIN:VCALENDAR
VERSION:2.0
CALSCALE:GREGORIAN
BEGIN:VEVENT
DTSTART;TZID=Europe/Berlin:20241108T150000
DTEND;TZID=Europe/Berlin:20241109T000000
SUMMARY:Zittau Kinder Academy\: St. Nicholas&#039; house
DESCRIPTION:
END:VEVENT
END:VCALENDAR