BEGIN:VCALENDAR
VERSION:2.0
CALSCALE:GREGORIAN
BEGIN:VEVENT
DTSTART;TZID=Europe/Berlin:20221005T161500
DTEND;TZID=Europe/Berlin:20221006T000000
SUMMARY:SeniorenKolleg\: SCIENCE MEETS ART Artist talk with Helga and Ulrich Pilz (Löbau)
DESCRIPTION:SCIENCE MEETS ART Artist talk at the Seniorenkolleg with Helga and Ulrich Pilz (Löbau)\, Wednesday\, 5.10. \, 16\:15 University Library Zittau
END:VEVENT
END:VCALENDAR