BEGIN:VCALENDAR
VERSION:2.0
CALSCALE:GREGORIAN
BEGIN:VEVENT
DTSTART;TZID=Europe/Berlin:20241016T180000
DTEND;TZID=Europe/Berlin:20241017T000000
SUMMARY:If it weren&#039;t for the small but significant &quot;but&quot; - (East German?!) racism in geriatric care
DESCRIPTION:Lecture by Dr. Monique Ritter at the VHS in Zittau
END:VEVENT
END:VCALENDAR