BEGIN:VCALENDAR
VERSION:2.0
CALSCALE:GREGORIAN
BEGIN:VEVENT
DTSTART;TZID=Europe/Berlin:20230915T150000
DTEND;TZID=Europe/Berlin:20230916T000000
SUMMARY:Kinder Academy Zittau\: Giving unknown perpetrators a face - how a sketch is created
DESCRIPTION:
END:VEVENT
END:VCALENDAR