BEGIN:VCALENDAR
VERSION:2.0
CALSCALE:GREGORIAN
BEGIN:VEVENT
DTSTART;TZID=Europe/Berlin:20240619T183000
DTEND;TZID=Europe/Berlin:20240621T000000
SUMMARY:Transformation and unity\: F(r)ictions of a social project
DESCRIPTION:Prof. Dr. phil. habil. Raj Kollmorgen at the &quot;Transformation East&quot; series of events at TU Dresden
END:VEVENT
END:VCALENDAR