BEGIN:VCALENDAR
VERSION:2.0
CALSCALE:GREGORIAN
BEGIN:VEVENT
DTSTART;TZID=Europe/Berlin:20230605T100000
DTEND;TZID=Europe/Berlin:20230609T000000
SUMMARY:Startup Camp Lausitz
DESCRIPTION:Get in touch with other people interested in starting a business and develop your business idea - step by step.
END:VEVENT
END:VCALENDAR