BEGIN:VCALENDAR
VERSION:2.0
CALSCALE:GREGORIAN
BEGIN:VEVENT
DTSTART;TZID=Europe/Berlin:20240308T091000
DTEND;TZID=Europe/Berlin:20240310T000000
SUMMARY:SPIN2030 Science Festival
DESCRIPTION:The Zittau/Görlitz University of Applied Sciences is participating in the SPIN2030 Science Festival in Dresden\, March 8 - 9\, 2024\, with exhibits\, workshops and expert talks.
END:VEVENT
END:VCALENDAR