BEGIN:VCALENDAR
VERSION:2.0
CALSCALE:GREGORIAN
BEGIN:VEVENT
DTSTART;TZID=Europe/Berlin:20230118T161500
DTEND;TZID=Europe/Berlin:20230119T000000
SUMMARY:Sea route and power station the Volga\, the longest river in Europe
DESCRIPTION:
END:VEVENT
END:VCALENDAR