BEGIN:VCALENDAR
VERSION:2.0
CALSCALE:GREGORIAN
BEGIN:VEVENT
DTSTART;TZID=Europe/Berlin:20240228T140000
DTEND;TZID=Europe/Berlin:20240229T000000
SUMMARY:School network\: Collegial exchange on the topic of &quot;Fabmobil&quot;
DESCRIPTION:Introducing the Fabmobile!
END:VEVENT
END:VCALENDAR