BEGIN:VCALENDAR
VERSION:2.0
CALSCALE:GREGORIAN
BEGIN:VEVENT
DTSTART;TZID=Europe/Berlin:20230927T150939
DTEND;TZID=Europe/Berlin:20230928T000000
SUMMARY:Online enrollment for university sports winter semester 2023/24
DESCRIPTION:Our enrollment starts on 09.10.2023 at 07.00 am
END:VEVENT
END:VCALENDAR