BEGIN:VCALENDAR
VERSION:2.0
CALSCALE:GREGORIAN
BEGIN:VEVENT
DTSTART;TZID=Europe/Berlin:20220611T090000
DTEND;TZID=Europe/Berlin:20220612T000000
SUMMARY:Employee management for young entrepreneurs
DESCRIPTION:With this practice-oriented event\, you can develop and expand your specialist and management skills.and expand them.
END:VEVENT
END:VCALENDAR