BEGIN:VCALENDAR
VERSION:2.0
CALSCALE:GREGORIAN
BEGIN:VEVENT
DTSTART;TZID=Europe/Berlin:20230404T153000
DTEND;TZID=Europe/Berlin:20230621T000000
SUMMARY:Meetup Business Concept Development (online)
DESCRIPTION:Get in touch with other people interested in starting a business and develop your business plan - step by step.
END:VEVENT
END:VCALENDAR