BEGIN:VCALENDAR
VERSION:2.0
CALSCALE:GREGORIAN
BEGIN:VEVENT
DTSTART;TZID=Europe/Berlin:20230406T140000
DTEND;TZID=Europe/Berlin:20230624T000000
SUMMARY:Meetup Business Idea Development with Design Thinking (online)
DESCRIPTION:Get in touch with other people interested in starting a business and develop your business idea - step by step.
END:VEVENT
END:VCALENDAR