BEGIN:VCALENDAR
VERSION:2.0
CALSCALE:GREGORIAN
BEGIN:VEVENT
DTSTART;TZID=Europe/Berlin:20220601T140000
DTEND;TZID=Europe/Berlin:20220613T000000
SUMMARY:Matchmaking\: Care 4.0
DESCRIPTION:In short 5-minute presentations\, science and industry present their current work and solutions.
END:VEVENT
END:VCALENDAR