BEGIN:VCALENDAR
VERSION:2.0
CALSCALE:GREGORIAN
BEGIN:VEVENT
DTSTART;TZID=Europe/Berlin:20220602T193000
DTEND;TZID=Europe/Berlin:20220603T000000
SUMMARY:LÖBAULEBT e.V. - Film &quot;Atomkraft forever&quot;
DESCRIPTION:
END:VEVENT
END:VCALENDAR