BEGIN:VCALENDAR
VERSION:2.0
CALSCALE:GREGORIAN
BEGIN:VEVENT
DTSTART;TZID=Europe/Berlin:20240812T120000
DTEND;TZID=Europe/Berlin:20240817T000000
SUMMARY:Climate energy camp in Knappenrode
DESCRIPTION:At the climate-energy camp\, Year 8 pupils from the Freie Oberschule Boxberg research and experiment on current energy and climate issues. The supporting program consists of experiments\, exciting discussions with students\, cooking around the campfire and lots of games. They will spend the night in tents.
END:VEVENT
END:VCALENDAR