BEGIN:VCALENDAR
VERSION:2.0
CALSCALE:GREGORIAN
BEGIN:VEVENT
DTSTART;TZID=Europe/Berlin:20240119T150000
DTEND;TZID=Europe/Berlin:20240120T000000
SUMMARY:Kinder Academy Zittau\: Why do bats see with their ears?
DESCRIPTION:
END:VEVENT
END:VCALENDAR