BEGIN:VCALENDAR
VERSION:2.0
CALSCALE:GREGORIAN
BEGIN:VEVENT
DTSTART;TZID=Europe/Berlin:20231020T100000
DTEND;TZID=Europe/Berlin:20231021T000000
SUMMARY:Kinder Academy Zittau\: Computer Science &amp; Zuse
DESCRIPTION:
END:VEVENT
END:VCALENDAR