BEGIN:VCALENDAR
VERSION:2.0
CALSCALE:GREGORIAN
BEGIN:VEVENT
DTSTART;TZID=Europe/Berlin:20240424T143000
DTEND;TZID=Europe/Berlin:20240425T000000
SUMMARY:Computer science colloquium
DESCRIPTION:Introduction to quantum algorithms and post-quantum cryptography
END:VEVENT
END:VCALENDAR