BEGIN:VCALENDAR
VERSION:2.0
CALSCALE:GREGORIAN
BEGIN:VEVENT
DTSTART;TZID=Europe/Berlin:20240124T143000
DTEND;TZID=Europe/Berlin:20240125T000000
SUMMARY:Computer science colloquium
DESCRIPTION:New algorithms and hardware acceleration for atomistic simulations
END:VEVENT
END:VCALENDAR