BEGIN:VCALENDAR
VERSION:2.0
CALSCALE:GREGORIAN
BEGIN:VEVENT
DTSTART;TZID=Europe/Berlin:20240523T160000
DTEND;TZID=Europe/Berlin:20240524T000000
SUMMARY:&quot;Inclusiveness and the Capabilities Approach to Education&quot;
DESCRIPTION:Invitation to the guest lecture by Prof. Nadeem Naqvi
END:VEVENT
END:VCALENDAR