BEGIN:VCALENDAR
VERSION:2.0
CALSCALE:GREGORIAN
BEGIN:VEVENT
DTSTART;TZID=Europe/Berlin:20240507T190000
DTEND;TZID=Europe/Berlin:20240508T000000
SUMMARY:&quot;Reading in the ashes - ... &quot; Lecture at the Bautzen Archive Association
DESCRIPTION:&quot;Reading in the ashes - insights into everyday life in the early modern period based on the holdings of the Bautzen archive network.&quot; A lecture by Cornelia Müller.
END:VEVENT
END:VCALENDAR