BEGIN:VCALENDAR
VERSION:2.0
CALSCALE:GREGORIAN
BEGIN:VEVENT
DTSTART;TZID=Europe/Berlin:20221215T180000
DTEND;TZID=Europe/Berlin:20221216T000000
SUMMARY:Inter-university online lecture series
DESCRIPTION:&quot;They don&#039;t wipe the tables properly&quot; - perspectives critical of racism in neighborhood work with older people
END:VEVENT
END:VCALENDAR