BEGIN:VCALENDAR
VERSION:2.0
CALSCALE:GREGORIAN
BEGIN:VEVENT
DTSTART;TZID=Europe/Berlin:20221109T161500
DTEND;TZID=Europe/Berlin:20221110T000000
SUMMARY:Being a teacher in Poland today
DESCRIPTION:
END:VEVENT
END:VCALENDAR