BEGIN:VCALENDAR
VERSION:2.0
CALSCALE:GREGORIAN
BEGIN:VEVENT
DTSTART;TZID=Europe/Berlin:20230913T103400
DTEND;TZID=Europe/Berlin:20230916T000000
SUMMARY:Agency instead of powerlessness\: Agency and (cultural) participation in border areas
DESCRIPTION:Emilia Socha at the 7th Federal INTERKULTUR Congress in Potsdam
END:VEVENT
END:VCALENDAR