BEGIN:VCALENDAR
VERSION:2.0
CALSCALE:GREGORIAN
BEGIN:VEVENT
DTSTART;TZID=Europe/Berlin:20231124T160000
DTEND;TZID=Europe/Berlin:20231125T000000
SUMMARY:Görlitz Kinder Academy\: How do squirrels live in the city?
DESCRIPTION:
END:VEVENT
END:VCALENDAR