BEGIN:VCALENDAR
VERSION:2.0
CALSCALE:GREGORIAN
BEGIN:VEVENT
DTSTART;TZID=Europe/Berlin:20230120T160000
DTEND;TZID=Europe/Berlin:20230121T000000
SUMMARY:Görlitz Kinder Academy\: How do plants and animals help engineers solve technical problems?
DESCRIPTION:
END:VEVENT
END:VCALENDAR