BEGIN:VCALENDAR
VERSION:2.0
CALSCALE:GREGORIAN
BEGIN:VEVENT
DTSTART;TZID=Europe/Berlin:20240614T160000
DTEND;TZID=Europe/Berlin:20240615T000000
SUMMARY:Görlitz Kinder Academy\: Why does my dog bark in French?
DESCRIPTION:
END:VEVENT
END:VCALENDAR