BEGIN:VCALENDAR
VERSION:2.0
CALSCALE:GREGORIAN
BEGIN:VEVENT
DTSTART;TZID=Europe/Berlin:20221209T160000
DTEND;TZID=Europe/Berlin:20221210T000000
SUMMARY:Görlitz Kinder Academy\: From asvisviper to trembling spider
DESCRIPTION:
END:VEVENT
END:VCALENDAR