BEGIN:VCALENDAR
VERSION:2.0
CALSCALE:GREGORIAN
BEGIN:VEVENT
DTSTART;TZID=Europe/Berlin:20240126T160000
DTEND;TZID=Europe/Berlin:20240129T000000
SUMMARY:Görlitz Kinder Academy\: Sharks - hunters with brains
DESCRIPTION:Sharks - hunters with brains. Thomas Lübcke\, Senckenberg Museum of Natural History Görlitz
END:VEVENT
END:VCALENDAR