BEGIN:VCALENDAR
VERSION:2.0
CALSCALE:GREGORIAN
BEGIN:VEVENT
DTSTART;TZID=Europe/Berlin:20250117T160000
DTEND;TZID=Europe/Berlin:20250118T000000
SUMMARY:Görlitz Kinder Academy\: The Land of the Rising Sun
DESCRIPTION:
END:VEVENT
END:VCALENDAR